BEGIN:VCALENDAR
VERSION:2.0
PRODID:-//Music Spoken Here - ECPv6.15.20//NONSGML v1.0//EN
CALSCALE:GREGORIAN
METHOD:PUBLISH
X-ORIGINAL-URL:https://musicspokenhere.club
X-WR-CALDESC:Events for Music Spoken Here
REFRESH-INTERVAL;VALUE=DURATION:PT1H
X-Robots-Tag:noindex
X-PUBLISHED-TTL:PT1H
BEGIN:VTIMEZONE
TZID:Europe/London
BEGIN:DAYLIGHT
TZOFFSETFROM:+0000
TZOFFSETTO:+0100
TZNAME:BST
DTSTART:20240331T010000
END:DAYLIGHT
BEGIN:STANDARD
TZOFFSETFROM:+0100
TZOFFSETTO:+0000
TZNAME:GMT
DTSTART:20241027T010000
END:STANDARD
BEGIN:DAYLIGHT
TZOFFSETFROM:+0000
TZOFFSETTO:+0100
TZNAME:BST
DTSTART:20250330T010000
END:DAYLIGHT
BEGIN:STANDARD
TZOFFSETFROM:+0100
TZOFFSETTO:+0000
TZNAME:GMT
DTSTART:20251026T010000
END:STANDARD
BEGIN:DAYLIGHT
TZOFFSETFROM:+0000
TZOFFSETTO:+0100
TZNAME:BST
DTSTART:20260329T010000
END:DAYLIGHT
BEGIN:STANDARD
TZOFFSETFROM:+0100
TZOFFSETTO:+0000
TZNAME:GMT
DTSTART:20261025T010000
END:STANDARD
END:VTIMEZONE
BEGIN:VEVENT
DTSTART;TZID=Europe/London:20250629T163000
DTEND;TZID=Europe/London:20250629T190000
DTSTAMP:20260423T123100
CREATED:20250505T152709Z
LAST-MODIFIED:20260408T162003Z
UID:2880-1751214600-1751223600@musicspokenhere.club
SUMMARY:Sunday Service: Danni Mayers
DESCRIPTION:Danni has created a unique sound mixing reggae\, RnB and gospel to deliver passionate vocals and weave soulful melodies\nBorn in Manchester UK\, Danni Mayers has spent the last 20+ years carving out a career as a session vocalist recording\, performing and supporting a vast array of artists from around the globe including Loose Ends\, Omar\, The Lisa Marie Experience\, Tippa Irie\, Susan Cadogan Sugar Minott\, Luciano\, Backyard Dog\, Sixth Revelation\, Etana and Beenie Man. Danni has toured Europe playing at some of Europe’s biggest festivals including Summer Jam\, Chiemsee (Germany)\, Rototom (Italy) and Cheltenham Jazz festival. \nAs a solo artist\, Danni’s debut single “Summer Love” was released in July 2018. She performed headline shows at Pizza Express Live (Holborn) and The Jam House in Birmingham last year and has released further singles “Monday Blues” and “I Am Blessed”. Danni is no stranger to The Marr’s Bar either – she appeared as a guest vocalist when her husband Reed Bass performed for us in December 2023. \nHer music has been described as a meeting of Jean Carne\, Bob Marley and Erykah Badu in an urban UK city. Mixing Reggae\, RnB and Gospel\, Danni has created a unique sound to deliver passionate vocals and weave soulful melodies that you can’t help humming along to. \nFor this gig\, Danni will be performing her own songs and some choice covers with her full\, seven-piece band. \n\n\n\n\nTICKETS\nMusic Spoken Here is proud to offer exceptional live music experiences in Worcester at a price affordable to you. Our events at The Marr’s Bar are ticketless\, just show up on the night and pay what you can afford on the door. \nThe suggested contribution for this event is £12.
URL:https://musicspokenhere.club/event/sunday-service-danni-mayers/
LOCATION:The Marr’s Bar\, 12 Pierpoint Street\, Worcester\, Worcestershire\, WR1 1TA\, United Kingdom
ATTACH;FMTTYPE=image/jpeg:https://musicspokenhere.club/wp-content/uploads/2025/05/Danni-Mayers-Event-Cover.jpeg
ORGANIZER;CN="Music Spoken Here":MAILTO:info@musicspokenhere.club
END:VEVENT
END:VCALENDAR