BEGIN:VCALENDAR
VERSION:2.0
PRODID:-//Music Spoken Here - ECPv6.15.20//NONSGML v1.0//EN
CALSCALE:GREGORIAN
METHOD:PUBLISH
X-ORIGINAL-URL:https://musicspokenhere.club
X-WR-CALDESC:Events for Music Spoken Here
REFRESH-INTERVAL;VALUE=DURATION:PT1H
X-Robots-Tag:noindex
X-PUBLISHED-TTL:PT1H
BEGIN:VTIMEZONE
TZID:Europe/London
BEGIN:DAYLIGHT
TZOFFSETFROM:+0000
TZOFFSETTO:+0100
TZNAME:BST
DTSTART:20240331T010000
END:DAYLIGHT
BEGIN:STANDARD
TZOFFSETFROM:+0100
TZOFFSETTO:+0000
TZNAME:GMT
DTSTART:20241027T010000
END:STANDARD
BEGIN:DAYLIGHT
TZOFFSETFROM:+0000
TZOFFSETTO:+0100
TZNAME:BST
DTSTART:20250330T010000
END:DAYLIGHT
BEGIN:STANDARD
TZOFFSETFROM:+0100
TZOFFSETTO:+0000
TZNAME:GMT
DTSTART:20251026T010000
END:STANDARD
BEGIN:DAYLIGHT
TZOFFSETFROM:+0000
TZOFFSETTO:+0100
TZNAME:BST
DTSTART:20260329T010000
END:DAYLIGHT
BEGIN:STANDARD
TZOFFSETFROM:+0100
TZOFFSETTO:+0000
TZNAME:GMT
DTSTART:20261025T010000
END:STANDARD
END:VTIMEZONE
BEGIN:VEVENT
DTSTART;TZID=Europe/London:20251130T163000
DTEND;TZID=Europe/London:20251130T190000
DTSTAMP:20260422T105837
CREATED:20251006T082512Z
LAST-MODIFIED:20260408T161828Z
UID:4499-1764520200-1764529200@musicspokenhere.club
SUMMARY:Sunday Service with Czafari.
DESCRIPTION:West Midlands alternative R&B singer-songwriter brings storytelling to life through evocative music influenced by Lianne La Havas\, Lily Allen and Eryka Badu\nCzafari. is an alternative R&B singer-songwriter from the West Midlands who brings storytelling to life through her evocative music. “Songwriting is a way for me to release the thoughts in my head while exploring the nuances of my voice\,” she shares. Influenced by a diverse range of artists\, including Lianne La Havas\, Lily Allen\, and Erykah Badu\, Czafari. blends soulful melodies with a distinctive\, eclectic style that sets her apart. \nAt just 17\, Czafari. debuted her first EP\, Human Legitimation\, on SoundCloud. The electronic R&B project delved into themes of love\, identity\, and social dynamics\, showcasing her talent for introspection and lyrical depth. A performer since the age of four\, she honed her craft through local singing competitions and talent shows\, cementing her passion for connecting with audiences. \nSince releasing Human Legitimation in 2016\, Czafari. has gained recognition with airplay on BBC Introducing West Midlands and BBC Radio 1Xtra. Her live performances have taken her across the UK\, including opening for Detroit-based multi-instrumentalist JMSN. With a sound that resonates deeply and a voice that captivates\, Czafari. continues to carve out her space in the world of alternative R&B. \n\n\n\n\nTICKETS\nMusic Spoken Here is proud to offer exceptional live music experiences in Worcester at a price affordable to you. Our events at The Marr’s Bar are ticketless\, just show up on the evening and pay what you can afford on the door. \nThe suggested contribution for this event is £12.
URL:https://musicspokenhere.club/event/sunday-service-with-czafari/
LOCATION:The Marr’s Bar\, 12 Pierpoint Street\, Worcester\, Worcestershire\, WR1 1TA\, United Kingdom
ATTACH;FMTTYPE=image/jpeg:https://musicspokenhere.club/wp-content/uploads/2025/10/Czafari-Event-Cover-1.jpeg
ORGANIZER;CN="Music Spoken Here":MAILTO:info@musicspokenhere.club
END:VEVENT
END:VCALENDAR